BEGIN:VCALENDAR
VERSION:2.0
CALSCALE:GREGORIAN
PRODID:-//Diputació de Barcelona//DibaCMS//EN
BEGIN:VEVENT
UID:1418
DTSTAMP:20260421T105506
DTSTART:20220116T110000
DTEND:20220116T130000
SUMMARY:Acte inicial mil·lenari Sant Martí de Torroella
LOCATION:C/ de l'Església  08250 Sant Martí de Torroella
METHOD:PUBLISH
X-WR-CALNAME:st.martitorr@santmartidetorroella.cat
X-WR-TIMEZONE:Europe/Madrid
DESCRIPTION:Acte inicial mil·lenari Sant Martí de Torroella.

Aquest diumenge dia 16 de Gener a les 11h del matí, a la parroquia de Sant Martí de l’Entitat Descentralitzada de Sant Martí de Torroella es celebrarà una missa conmemorativa del Milenari de Sant Martí Torroella.

URI:https://www.santmartidetorroella.cat/actualitat/agenda/1418-acte-inicial-millenari-sant-marti-de-torroella.html
CLASS:PUBLIC
END:VEVENT
END:VCALENDAR
