BEGIN:VCALENDAR
VERSION:2.0
CALSCALE:GREGORIAN
PRODID:-//Diputació de Barcelona//DibaCMS//EN
BEGIN:VEVENT
UID:1398
DTSTAMP:20260420T101621
DTSTART:20211105T200000
DTEND:20211105T230000
SUMMARY:Demostració i cata de Cocktails + Ball 
LOCATION:08250 Sant Martí de Torroella
METHOD:PUBLISH
X-WR-CALNAME:st.martitorr@santmartidetorroella.cat
X-WR-TIMEZONE:Europe/Madrid
DESCRIPTION:A partir de les 20h al Centre Cívic: Demostració i cata de cocktails a càrrec de Glaç (Manresa)

Cal inscripció prèvia: Ester 629.76.20.69

En acabar, ball en línia de bachata i merengue a càrrec d’Eve

Servei de bar: entrepans i begudes

 

URI:https://www.santmartidetorroella.cat/actualitat/agenda/demostracio-i-cata-de-cocktails--ball-.html
CLASS:PUBLIC
END:VEVENT
END:VCALENDAR
